BEGIN:VCALENDAR
VERSION:2.0
PRODID:-//Drupal iCal API//EN
X-WR-CALNAME:Events items teaser
X-WR-TIMEZONE:America/Toronto
BEGIN:VTIMEZONE
TZID:America/Toronto
X-LIC-LOCATION:America/Toronto
BEGIN:DAYLIGHT
TZNAME:EDT
TZOFFSETFROM:-0500
TZOFFSETTO:-0400
DTSTART:20240310T070000
END:DAYLIGHT
BEGIN:STANDARD
TZNAME:EST
TZOFFSETFROM:-0400
TZOFFSETTO:-0500
DTSTART:20231105T060000
END:STANDARD
END:VTIMEZONE
BEGIN:VEVENT
UID:69e9e554d2bdc
DTSTART;TZID=America/Toronto:20240320T130000
SEQUENCE:0
TRANSP:TRANSPARENT
DTEND;TZID=America/Toronto:20240320T150000
URL:https://uwaterloo.ca/equity-diversity-inclusion-anti-racism/events/warm
 -welcome-open-house
LOCATION:EC5 - East Campus 5 305 Phillip St. Waterloo ON N2L 5Z5 Canada
SUMMARY:Warm Welcome Open House
CLASS:PUBLIC
DESCRIPTION:Join the Equity\, Diversity\, Inclusion and Anti-Racism Unit (E
 DI-RO) on\na global taste adventure! On March 20 from 1:00 pm - 3:00 pm\, 
 all\nStaff and Faculty are invited to our office in EC5 for a Warm Welcome
 \nOpen House. Immerse yourself in flavours from around the world with an\n
 array of drinks. From Laban Ayran from Turkey\, Sorrel from West\nAfrica\,
  Mango Lassi from India\, ginger beer and different flavoured\ncoffees and
  teas from around the world\, there is something for\neveryone’s taste.
  
DTSTAMP:20260423T092436Z
END:VEVENT
END:VCALENDAR