BEGIN:VCALENDAR
VERSION:2.0
PRODID:-//Drupal iCal API//EN
X-WR-CALNAME:Events items teaser
X-WR-TIMEZONE:America/Toronto
BEGIN:VTIMEZONE
TZID:America/Toronto
X-LIC-LOCATION:America/Toronto
BEGIN:DAYLIGHT
TZNAME:EDT
TZOFFSETFROM:-0500
TZOFFSETTO:-0400
DTSTART:20160313T070000
END:DAYLIGHT
BEGIN:STANDARD
TZNAME:EST
TZOFFSETFROM:-0400
TZOFFSETTO:-0500
DTSTART:20161106T060000
END:STANDARD
END:VTIMEZONE
BEGIN:VEVENT
UID:69b528303ecc7
DTSTART;TZID=America/Toronto:20170202T000000
SEQUENCE:0
TRANSP:TRANSPARENT
DTEND;TZID=America/Toronto:20170203T000000
URL:https://uwaterloo.ca/event-related-potential-lab/events/lake-ontario-vi
 sionary-establishment-love
LOCATION:Crown Plaza Hotel\, Niagara Falls ON Canada
SUMMARY:Lake Ontario Visionary Establishment (LOVE)
CLASS:PUBLIC
DTSTAMP:20260314T091944Z
END:VEVENT
END:VCALENDAR