BEGIN:VCALENDAR
VERSION:2.0
PRODID:-//Drupal iCal API//EN
X-WR-CALNAME:Events items teaser
X-WR-TIMEZONE:America/Toronto
BEGIN:VTIMEZONE
TZID:America/Toronto
X-LIC-LOCATION:America/Toronto
BEGIN:DAYLIGHT
TZNAME:EDT
TZOFFSETFROM:-0500
TZOFFSETTO:-0400
DTSTART:20240310T070000
END:DAYLIGHT
BEGIN:STANDARD
TZNAME:EST
TZOFFSETFROM:-0400
TZOFFSETTO:-0500
DTSTART:20241103T060000
END:STANDARD
END:VTIMEZONE
BEGIN:VEVENT
UID:69e5111948fe9
DTSTART;TZID=America/Toronto:20250227T120000
SEQUENCE:0
TRANSP:TRANSPARENT
DTEND;TZID=America/Toronto:20250227T130000
URL:https://uwaterloo.ca/events/events/anti-racism-reads-black-boys-me
LOCATION:FED - Federation Hall 200 University Avenue West Main Hall Waterlo
 o ON N2L 3G1 Canada
SUMMARY:Anti-Racism Reads: Black Boys Like Me
CLASS:PUBLIC
DESCRIPTION:Join us for the next installment of Anti-Racism Reads\, which w
 ill\nfeature a conversation with the author Matthew R. Morris about his\nb
 ook Black Boys Like Me: Confrontations with Race\, Identity\, and\nBelongi
 ng. 
DTSTAMP:20260419T173001Z
END:VEVENT
END:VCALENDAR