BEGIN:VCALENDAR
VERSION:2.0
PRODID:-//Drupal iCal API//EN
X-WR-CALNAME:Events items teaser
X-WR-TIMEZONE:America/Toronto
BEGIN:VTIMEZONE
TZID:America/Toronto
X-LIC-LOCATION:America/Toronto
BEGIN:DAYLIGHT
TZNAME:EDT
TZOFFSETFROM:-0500
TZOFFSETTO:-0400
DTSTART:20180311T070000
END:DAYLIGHT
BEGIN:STANDARD
TZNAME:EST
TZOFFSETFROM:-0400
TZOFFSETTO:-0500
DTSTART:20171105T060000
END:STANDARD
END:VTIMEZONE
BEGIN:VEVENT
UID:69e021e0dc56a
DTSTART;TZID=America/Toronto:20180312T120000
SEQUENCE:0
TRANSP:TRANSPARENT
DTEND;TZID=America/Toronto:20180312T133000
URL:https://uwaterloo.ca/faculty-association/events/presidents-luncheon-aca
 demic-freedom
LOCATION:FED - Federation Hall 200 University Avenue West Waterloo ON N2L 3
 G1 Canada
SUMMARY:President's Luncheon on Academic Freedom
CLASS:PUBLIC
DESCRIPTION:Academic freedom is a foundational principle of the modern univ
 ersity.\nOn March 12\, University President Feridun Hamdullahpur and the
 \nFaculty Association are hosting a campus dialogue to explore what\nacade
 mic freedom looks like at Waterloo.\n\nJoin President Hamdullahpur\, FAUW 
 President Bryan Tolson\, University\nSecretary Karen Jack\, and FAUW Vic
 e President Shannon Dea as they\nconsider the differences between freedom 
 of expression and academic\nfreedom\, relevant University of Waterloo poli
 cies\, and the\nimplications for faculty teaching\, research and service.
DTSTAMP:20260415T234016Z
END:VEVENT
END:VCALENDAR