BEGIN:VCALENDAR
VERSION:2.0
PRODID:-//Drupal iCal API//EN
X-WR-CALNAME:Events items teaser
X-WR-TIMEZONE:America/Toronto
BEGIN:VTIMEZONE
TZID:America/Toronto
X-LIC-LOCATION:America/Toronto
BEGIN:DAYLIGHT
TZNAME:EDT
TZOFFSETFROM:-0500
TZOFFSETTO:-0400
DTSTART:20190310T070000
END:DAYLIGHT
BEGIN:STANDARD
TZNAME:EST
TZOFFSETFROM:-0400
TZOFFSETTO:-0500
DTSTART:20191103T060000
END:STANDARD
END:VTIMEZONE
BEGIN:VEVENT
UID:69e89b424e3f4
DTSTART;TZID=America/Toronto:20191115T090000
SEQUENCE:0
TRANSP:TRANSPARENT
DTEND;TZID=America/Toronto:20191115T130000
URL:https://uwaterloo.ca/faculty-association/events/navigating-university-g
 overnance-faculty-members
LOCATION:ML - Modern Languages 200 University Avenue West Room 354 Waterloo
  ON N2L 3G1 Canada
SUMMARY:Navigating University Governance for Faculty Members
CLASS:PUBLIC
DESCRIPTION:An interactive workshop about how university governance works a
 nd FAUW\nprotects members’ rights and makes change happen on campus.
DTSTAMP:20260422T095618Z
END:VEVENT
END:VCALENDAR