BEGIN:VCALENDAR
VERSION:2.0
PRODID:-//Drupal iCal API//EN
X-WR-CALNAME:Events items teaser
X-WR-TIMEZONE:America/Toronto
BEGIN:VTIMEZONE
TZID:America/Toronto
X-LIC-LOCATION:America/Toronto
BEGIN:DAYLIGHT
TZNAME:EDT
TZOFFSETFROM:-0500
TZOFFSETTO:-0400
DTSTART:20190310T070000
END:DAYLIGHT
BEGIN:STANDARD
TZNAME:EST
TZOFFSETFROM:-0400
TZOFFSETTO:-0500
DTSTART:20191103T060000
END:STANDARD
END:VTIMEZONE
BEGIN:VEVENT
UID:69e04272ed617
DTSTART;TZID=America/Toronto:20191205T120000
SEQUENCE:0
TRANSP:TRANSPARENT
DTEND;TZID=America/Toronto:20191205T140000
URL:https://uwaterloo.ca/faculty-association/events/2019-fall-general-meeti
 ng
LOCATION:QNC - Quantum Nano Centre 200 University Avenue West Room 1502 Wat
 erloo ON N2L 3G1 Canada
SUMMARY:2019 Fall General Meeting
CLASS:PUBLIC
DESCRIPTION:The FAUW Fall General Meeting is THURSDAY\, DECEMBER 5 from 
 12:00 PM\nTO 2:00 PM IN QNC 1502. Lunch will be provided. Voting member
 s:\ncheck your email for the written reports and other meeting material.
DTSTAMP:20260416T015914Z
END:VEVENT
END:VCALENDAR