BEGIN:VCALENDAR
VERSION:2.0
PRODID:-//Drupal iCal API//EN
X-WR-CALNAME:Events items teaser
X-WR-TIMEZONE:America/Toronto
BEGIN:VTIMEZONE
TZID:America/Toronto
X-LIC-LOCATION:America/Toronto
BEGIN:DAYLIGHT
TZNAME:EDT
TZOFFSETFROM:-0500
TZOFFSETTO:-0400
DTSTART:20210314T070000
END:DAYLIGHT
BEGIN:STANDARD
TZNAME:EST
TZOFFSETFROM:-0400
TZOFFSETTO:-0500
DTSTART:20201101T060000
END:STANDARD
END:VTIMEZONE
BEGIN:VEVENT
UID:69ebc0f0488fd
DTSTART;TZID=America/Toronto:20211027T200000
SEQUENCE:0
TRANSP:TRANSPARENT
DTEND;TZID=America/Toronto:20211027T200000
URL:https://uwaterloo.ca/faculty-association/events/emergency-citizens-guid
 e-climate-success
SUMMARY:Emergency: The Citizen’s Guide to Climate Success
CLASS:PUBLIC
DESCRIPTION:Energy economist and author Mark Jaccard will deliver the 2021\
 nUniversity of Waterloo Hagey Lecture on October 27.
DTSTAMP:20260424T191352Z
END:VEVENT
END:VCALENDAR