BEGIN:VCALENDAR
VERSION:2.0
PRODID:-//Drupal iCal API//EN
X-WR-CALNAME:Events items teaser
X-WR-TIMEZONE:America/Toronto
BEGIN:VTIMEZONE
TZID:America/Toronto
X-LIC-LOCATION:America/Toronto
BEGIN:DAYLIGHT
TZNAME:EDT
TZOFFSETFROM:-0500
TZOFFSETTO:-0400
DTSTART:20250309T070000
END:DAYLIGHT
BEGIN:STANDARD
TZNAME:EST
TZOFFSETFROM:-0400
TZOFFSETTO:-0500
DTSTART:20241103T060000
END:STANDARD
END:VTIMEZONE
BEGIN:VEVENT
UID:69e0b9f0e0fcd
DTSTART;TZID=America/Toronto:20250320T170000
SEQUENCE:0
TRANSP:TRANSPARENT
DTEND;TZID=America/Toronto:20250320T200000
URL:https://uwaterloo.ca/fine-arts/events/opening-reception-2025-fourth-yea
 r-exhibition-1
SUMMARY:Opening reception for the 2025 fourth-year exhibition
CLASS:PUBLIC
DESCRIPTION:Everyone is invited to the opening of _Sonder_\, the graduating
 \nexhibition of the University of Waterloo’s Fine Arts class of 2025.
DTSTAMP:20260416T102904Z
END:VEVENT
END:VCALENDAR