BEGIN:VCALENDAR
VERSION:2.0
PRODID:-//Drupal iCal API//EN
X-WR-CALNAME:Events items teaser
X-WR-TIMEZONE:America/Toronto
BEGIN:VTIMEZONE
TZID:America/Toronto
X-LIC-LOCATION:America/Toronto
BEGIN:DAYLIGHT
TZNAME:EDT
TZOFFSETFROM:-0500
TZOFFSETTO:-0400
DTSTART:20250309T070000
END:DAYLIGHT
BEGIN:STANDARD
TZNAME:EST
TZOFFSETFROM:-0400
TZOFFSETTO:-0500
DTSTART:20241103T060000
END:STANDARD
END:VTIMEZONE
BEGIN:VEVENT
UID:69e9d540cd4d0
DTSTART;TZID=America/Toronto:20250911T140000
SEQUENCE:0
TRANSP:TRANSPARENT
DTEND;TZID=America/Toronto:20250911T160000
URL:https://uwaterloo.ca/fine-arts/events/opening-reception-phase-shift-exh
 ibition-2nd-year-mfa
SUMMARY:Opening Reception for Phase Shift - an exhibition 2nd year MFA artw
 ork
CLASS:PUBLIC
DESCRIPTION:Join us for the first exhibition of the new school year featuri
 ng the\nsecond-year MFA students.
DTSTAMP:20260423T081600Z
END:VEVENT
END:VCALENDAR