BEGIN:VCALENDAR
VERSION:2.0
PRODID:-//Drupal iCal API//EN
X-WR-CALNAME:Events items teaser
X-WR-TIMEZONE:America/Toronto
BEGIN:VTIMEZONE
TZID:America/Toronto
X-LIC-LOCATION:America/Toronto
BEGIN:DAYLIGHT
TZNAME:EDT
TZOFFSETFROM:-0500
TZOFFSETTO:-0400
DTSTART:20250309T070000
END:DAYLIGHT
BEGIN:STANDARD
TZNAME:EST
TZOFFSETFROM:-0400
TZOFFSETTO:-0500
DTSTART:20241103T060000
END:STANDARD
END:VTIMEZONE
BEGIN:VEVENT
UID:69e054c6711ee
DTSTART;TZID=America/Toronto:20251028T120000
SEQUENCE:0
TRANSP:TRANSPARENT
DTEND;TZID=America/Toronto:20251028T130000
URL:https://uwaterloo.ca/fine-arts/events/2025-keith-and-win-shantz-interna
 tional-research-scholarship
SUMMARY:2025 Keith and Win Shantz International Research Scholarship\nprese
 ntations
CLASS:PUBLIC
DESCRIPTION:The Fine Arts Department invites you to attend the Keith and Wi
 n\nShantz International Research presentations by Sandra\nJabbour\, Mad
 die Lychek\, James Malzahn and Elise Popa.
DTSTAMP:20260416T031726Z
END:VEVENT
END:VCALENDAR