BEGIN:VCALENDAR
VERSION:2.0
PRODID:-//Drupal iCal API//EN
X-WR-CALNAME:Events items teaser
X-WR-TIMEZONE:America/Toronto
BEGIN:VTIMEZONE
TZID:America/Toronto
X-LIC-LOCATION:America/Toronto
BEGIN:DAYLIGHT
TZNAME:EDT
TZOFFSETFROM:-0500
TZOFFSETTO:-0400
DTSTART:20250309T070000
END:DAYLIGHT
BEGIN:STANDARD
TZNAME:EST
TZOFFSETFROM:-0400
TZOFFSETTO:-0500
DTSTART:20251102T060000
END:STANDARD
END:VTIMEZONE
BEGIN:VEVENT
UID:69e0b95ccc52e
DTSTART;TZID=America/Toronto:20251201T120000
SEQUENCE:0
TRANSP:TRANSPARENT
DTEND;TZID=America/Toronto:20251201T130000
URL:https://uwaterloo.ca/fine-arts/events/artist-talk-shannon-garden-smith
LOCATION:ECH - East Campus Hall\, Critical Media Lab (ECH1205) 263 Phillip 
 Street Waterloo ON N2L 3G1 Canada
SUMMARY:Artist talk by Shannon Garden-Smith
CLASS:PUBLIC
DESCRIPTION:Toronto based artist Shannon Garden-Smith will talk about her\
 nartistic practice.
DTSTAMP:20260416T102636Z
END:VEVENT
END:VCALENDAR