BEGIN:VCALENDAR
VERSION:2.0
PRODID:-//Drupal iCal API//EN
X-WR-CALNAME:Events items teaser
X-WR-TIMEZONE:America/Toronto
BEGIN:VTIMEZONE
TZID:America/Toronto
X-LIC-LOCATION:America/Toronto
BEGIN:DAYLIGHT
TZNAME:EDT
TZOFFSETFROM:-0500
TZOFFSETTO:-0400
DTSTART:20250309T070000
END:DAYLIGHT
BEGIN:STANDARD
TZNAME:EST
TZOFFSETFROM:-0400
TZOFFSETTO:-0500
DTSTART:20251102T060000
END:STANDARD
END:VTIMEZONE
BEGIN:VEVENT
UID:69e14e11b38e2
DTSTART;TZID=America/Toronto:20260108T170000
SEQUENCE:0
TRANSP:TRANSPARENT
DTEND;TZID=America/Toronto:20260108T200000
URL:https://uwaterloo.ca/fine-arts/events/opening-reception-uwag-i-look-ski
 es-installation-jude-abu
SUMMARY:Opening reception at UWAG for \"i look to the skies\" an installati
 on by\nJude Abu Zaineh.
CLASS:PUBLIC
DESCRIPTION:The University of Waterloo Art Gallery (UWAG) invites you to 
 the\nopening of reception of _i look to the skies\n[https://uwag.uwater
 loo.ca/exhibition/i-look-to-the-skies/] _an\ninstallation by Jude Abu 
 Zaineh [https://www.judeaz.com/]\,\npresented in partnership with MSVU Art
  Gallery_\,_ on Thursday\,\nJanuary 8\, from 5-8 pm.  
DTSTAMP:20260416T210105Z
END:VEVENT
END:VCALENDAR