BEGIN:VCALENDAR
VERSION:2.0
PRODID:-//Drupal iCal API//EN
X-WR-CALNAME:Events items teaser
X-WR-TIMEZONE:America/Toronto
BEGIN:VTIMEZONE
TZID:America/Toronto
X-LIC-LOCATION:America/Toronto
BEGIN:DAYLIGHT
TZNAME:EDT
TZOFFSETFROM:-0500
TZOFFSETTO:-0400
DTSTART:20260308T070000
END:DAYLIGHT
BEGIN:STANDARD
TZNAME:EST
TZOFFSETFROM:-0400
TZOFFSETTO:-0500
DTSTART:20251102T060000
END:STANDARD
END:VTIMEZONE
BEGIN:VEVENT
UID:69dfdb6a1cb68
DTSTART;TZID=America/Toronto:20260416T170000
SEQUENCE:0
TRANSP:TRANSPARENT
DTEND;TZID=America/Toronto:20260416T200000
URL:https://uwaterloo.ca/fine-arts/events/2026-master-fine-arts-thesis-exhi
 bition-i
LOCATION:ECH - East Campus Hall 200 University Ave West UWAG Waterloo ON N2
 L 3G1 Canada
SUMMARY:2026 Master of Fine Arts thesis exhibition I
CLASS:PUBLIC
DESCRIPTION:The Department of Fine Arts and UWAG\n[https://uwag.uwaterloo.
 ca/] present the first in the series of\nthesis exhibitions by Master of 
 Fine Arts (MFA) candidates from the\ngraduate program in Fine Arts at the 
 University of Waterloo. MFA\nThesis gives the campus and community-at-larg
 e an opportunity to see\nthe end result of two years of intensive research
  and studio\nproduction by emerging visual artists.
DTSTAMP:20260415T183938Z
END:VEVENT
END:VCALENDAR