BEGIN:VCALENDAR
VERSION:2.0
PRODID:-//Drupal iCal API//EN
X-WR-CALNAME:Events items teaser
X-WR-TIMEZONE:America/Toronto
BEGIN:VTIMEZONE
TZID:America/Toronto
X-LIC-LOCATION:America/Toronto
BEGIN:DAYLIGHT
TZNAME:EDT
TZOFFSETFROM:-0500
TZOFFSETTO:-0400
DTSTART:20230312T070000
END:DAYLIGHT
BEGIN:STANDARD
TZNAME:EST
TZOFFSETFROM:-0400
TZOFFSETTO:-0500
DTSTART:20231105T060000
END:STANDARD
END:VTIMEZONE
BEGIN:VEVENT
UID:69e055e779b32
DTSTART;TZID=America/Toronto:20240308T120000
SEQUENCE:0
TRANSP:TRANSPARENT
DTEND;TZID=America/Toronto:20240308T130000
URL:https://uwaterloo.ca/fine-arts/events/visiting-speaker-series-bob-wisem
 an
SUMMARY:Visiting speaker series - Bob Wiseman
CLASS:PUBLIC
DESCRIPTION:The Department of Fine Arts would like to invite you to join ou
 r\nVisiting Speakers Series on Friday March 8 at 12:00pm for a talk by\nmu
 sician Bob Wiseman.
DTSTAMP:20260416T032215Z
END:VEVENT
END:VCALENDAR