BEGIN:VCALENDAR
VERSION:2.0
PRODID:-//Drupal iCal API//EN
X-WR-CALNAME:Events items teaser
X-WR-TIMEZONE:America/Toronto
BEGIN:VTIMEZONE
TZID:America/Toronto
X-LIC-LOCATION:America/Toronto
BEGIN:DAYLIGHT
TZNAME:EDT
TZOFFSETFROM:-0500
TZOFFSETTO:-0400
DTSTART:20250309T070000
END:DAYLIGHT
BEGIN:STANDARD
TZNAME:EST
TZOFFSETFROM:-0400
TZOFFSETTO:-0500
DTSTART:20251102T060000
END:STANDARD
END:VTIMEZONE
BEGIN:VEVENT
UID:69e3a3eb2f776
DTSTART;VALUE=DATE:20260301
SEQUENCE:0
TRANSP:TRANSPARENT
DTEND;VALUE=DATE:20260302
URL:https://uwaterloo.ca/french-studies/events/concours-traduction-2026
SUMMARY:Concours de traduction 2026
CLASS:PUBLIC
DESCRIPTION:CONCOURS DE TRADUCTION : APPEL À CANDIDATURES \n\nLe Dépar
 tement d’études françaises lance deux concours de\ntraduction ouverts
  aux étudiantes et étudiants de premier cycle et\ndes cycles supérieurs
  de notre programme.  \n\n*\nCONCOURS 1 : TRADUCTION DU FRANÇAIS VERS 
 L’ANGLAIS \nTraduction vers l’anglais d’un texte de la poète\nfr
 anco-ontarienne Véronique Sylvain. \n\n*\nCONCOURS 2 : TRADUCTION DE L
 ’ANGLAIS VERS LE FRANÇAIS \nTraduction vers le français d’un text
 e du poète Rae Crossman\n(qui vit ici dans la région de Waterloo). \n
 \nChaque concours est doté d’un PRIX DE 250 $. \n \n\nLes traduction
 s gagnantes pourront être publiées\ndans _Quintessence_\, le journal
  des étudiantes et étudiants aux\ncycles supérieurs du département.
   \n\nNous invitons toutes les personnes intéressées à soumettre leur
 \ntraduction et à mettre en valeur leur sensibilité littéraire\, leur\n
 créativité et leur talent pour la traduction.\n 
X-MICROSOFT-CDO-ALLDAYEVENT:TRUE
DTSTAMP:20260418T153155Z
END:VEVENT
END:VCALENDAR