BEGIN:VCALENDAR
VERSION:2.0
PRODID:-//Drupal iCal API//EN
X-WR-CALNAME:Events items teaser
X-WR-TIMEZONE:America/Toronto
BEGIN:VTIMEZONE
TZID:America/Toronto
X-LIC-LOCATION:America/Toronto
BEGIN:DAYLIGHT
TZNAME:EDT
TZOFFSETFROM:-0500
TZOFFSETTO:-0400
DTSTART:20220313T070000
END:DAYLIGHT
BEGIN:STANDARD
TZNAME:EST
TZOFFSETFROM:-0400
TZOFFSETTO:-0500
DTSTART:20211107T060000
END:STANDARD
END:VTIMEZONE
BEGIN:VEVENT
UID:69b542d104647
DTSTART;TZID=America/Toronto:20220929T180000
SEQUENCE:0
TRANSP:TRANSPARENT
DTEND;TZID=America/Toronto:20221002T160000
URL:https://uwaterloo.ca/games-institute/events/fall-2022-games-institute-g
 ame-jam
LOCATION:Mike &amp; Ophelia Lazaridis Quantum Nano Centre (QNC) 2502 Waterloo O
 N N2L 3G1 Canada
SUMMARY:Fall 2022 Games Institute Game Jam
CLASS:PUBLIC
DESCRIPTION:From September 29th-October 2nd\, 2022\, build a game with your
  team\,\njoin a thriving community &amp; have lots of fun!\n\nIf you have ques
 tions not answered by the FAQ\, please reach out to\ncurrent Game Jam capt
 ain(s) Alexander (aekglover@uwaterloo.ca) for\nmore details.\n\nStart: 6pm
 \, Thursday\, September 28th\n\nEnd: 4pm\, Sunday\, October 2nd 
DTSTAMP:20260314T111321Z
END:VEVENT
END:VCALENDAR