BEGIN:VCALENDAR
VERSION:2.0
PRODID:-//Drupal iCal API//EN
X-WR-CALNAME:Events items teaser
X-WR-TIMEZONE:America/Toronto
BEGIN:VTIMEZONE
TZID:America/Toronto
X-LIC-LOCATION:America/Toronto
BEGIN:DAYLIGHT
TZNAME:EDT
TZOFFSETFROM:-0500
TZOFFSETTO:-0400
DTSTART:20220313T070000
END:DAYLIGHT
BEGIN:STANDARD
TZNAME:EST
TZOFFSETFROM:-0400
TZOFFSETTO:-0500
DTSTART:20221106T060000
END:STANDARD
END:VTIMEZONE
BEGIN:VEVENT
UID:69b50679d0194
DTSTART;TZID=America/Toronto:20221118T100000
SEQUENCE:0
TRANSP:TRANSPARENT
DTEND;TZID=America/Toronto:20221118T130000
URL:https://uwaterloo.ca/games-institute/events/games-aging-and-health-netw
 orking-social-and-learning-hybrid
LOCATION:EC1 - East Campus 1 200 University Avenue West The Games Institute
  Waterloo ON N2L 3G1 Canada
SUMMARY:Games\, Aging and Health: Networking\, Social\, and Learning (hybri
 d\nevent)
CLASS:PUBLIC
DESCRIPTION:The Games Institute and AGE-WELL are hosting a networking event
  to\nfoster a community of innovative aging research to learn about\nproje
 cts\, ideas\, and interests in how games\, technology\, and health\ncan su
 pport aging people living well. A half-day event will include\npresentatio
 ns from experts in aging research and serious game design\,\na chance to l
 earn about AGE-WELL funding opportunities for emerging\nresearchers\, and 
 a chance to gain connections during game demos at the\nend of the event.
DTSTAMP:20260314T065553Z
END:VEVENT
END:VCALENDAR