BEGIN:VCALENDAR
VERSION:2.0
PRODID:-//Drupal iCal API//EN
X-WR-CALNAME:Events items teaser
X-WR-TIMEZONE:America/Toronto
BEGIN:VTIMEZONE
TZID:America/Toronto
X-LIC-LOCATION:America/Toronto
BEGIN:DAYLIGHT
TZNAME:EDT
TZOFFSETFROM:-0500
TZOFFSETTO:-0400
DTSTART:20230312T070000
END:DAYLIGHT
BEGIN:STANDARD
TZNAME:EST
TZOFFSETFROM:-0400
TZOFFSETTO:-0500
DTSTART:20221106T060000
END:STANDARD
END:VTIMEZONE
BEGIN:VEVENT
UID:69b5435366854
DTSTART;TZID=America/Toronto:20231004T090000
SEQUENCE:0
TRANSP:TRANSPARENT
DTEND;TZID=America/Toronto:20231004T120000
URL:https://uwaterloo.ca/games-institute/events/workshop-physiological-meas
 ures-games-and-vr-novel-tools-and
LOCATION:EC1 - East Campus 1 200 University Ave West The Games Institute Wa
 terloo ON N2L 3G1 Canada
SUMMARY:Workshop on Physiological Measures for Games and VR: Novel Tools an
 d\nApproaches
CLASS:PUBLIC
DESCRIPTION:The utilization of physiological measures in games and virtual 
 reality\n(VR) has garnered significant attention in recent years. This hyb
 rid\npanel covers the exploration of biometrics (or physiological measures
 )\nin game user research\, driven by advancements in sensing technologies\
 nand the increased accessibility of signal processing tools.
DTSTAMP:20260314T111531Z
END:VEVENT
END:VCALENDAR