BEGIN:VCALENDAR
VERSION:2.0
PRODID:-//Drupal iCal API//EN
X-WR-CALNAME:Events items teaser
X-WR-TIMEZONE:America/Toronto
BEGIN:VTIMEZONE
TZID:America/Toronto
X-LIC-LOCATION:America/Toronto
BEGIN:DAYLIGHT
TZNAME:EDT
TZOFFSETFROM:-0500
TZOFFSETTO:-0400
DTSTART:20250309T070000
END:DAYLIGHT
BEGIN:STANDARD
TZNAME:EST
TZOFFSETFROM:-0400
TZOFFSETTO:-0500
DTSTART:20241103T060000
END:STANDARD
END:VTIMEZONE
BEGIN:VEVENT
UID:69e59878cabc9
DTSTART;TZID=America/Toronto:20251003T120000
SEQUENCE:0
TRANSP:TRANSPARENT
DTEND;TZID=America/Toronto:20251003T135000
URL:https://uwaterloo.ca/gender-social-justice/events/mean-girl-feminism-an
 d-its-antidote-reciprocity
SUMMARY:Mean Girl Feminism and its Antidote: Reciprocity
CLASS:PUBLIC
DESCRIPTION:We welcome Kim Hong Nguyen and Katy Fulfer who will be speaking
  about\ntheir research on power structures within feminist discourse.
DTSTAMP:20260420T030736Z
END:VEVENT
END:VCALENDAR