BEGIN:VCALENDAR
VERSION:2.0
PRODID:-//Drupal iCal API//EN
X-WR-CALNAME:Events items teaser
X-WR-TIMEZONE:America/Toronto
BEGIN:VTIMEZONE
TZID:America/Toronto
X-LIC-LOCATION:America/Toronto
BEGIN:DAYLIGHT
TZNAME:EDT
TZOFFSETFROM:-0500
TZOFFSETTO:-0400
DTSTART:20170312T070000
END:DAYLIGHT
BEGIN:STANDARD
TZNAME:EST
TZOFFSETFROM:-0400
TZOFFSETTO:-0500
DTSTART:20171105T060000
END:STANDARD
END:VTIMEZONE
BEGIN:VEVENT
UID:69c722c60bbb8
DTSTART;TZID=America/Toronto:20171219T120000
SEQUENCE:0
TRANSP:TRANSPARENT
DTEND;TZID=America/Toronto:20171219T133000
URL:https://uwaterloo.ca/geographies-of-health-in-place/events/water-and-cl
 imate-dialogue-series
LOCATION:United Nations University Institute for Water\, Environment and He
 alth Longwood Rd S Hamilton Canada
SUMMARY:The Water and Climate Dialogue Series
CLASS:PUBLIC
DESCRIPTION:GoHelP's George Atiim\n[https://uwaterloo.ca/geographies-of-hea
 lth-in-place/people-profiles/george-atiim]\nwill present at the United Nat
 ions University Institute for Water\,\nEnvironment and Health (UNU-INWEH) 
 [http://inweh.unu.edu/] on December\n19\, 2017
DTSTAMP:20260328T003726Z
END:VEVENT
END:VCALENDAR