BEGIN:VCALENDAR
VERSION:2.0
PRODID:-//Drupal iCal API//EN
X-WR-CALNAME:Events items teaser
X-WR-TIMEZONE:America/Toronto
BEGIN:VTIMEZONE
TZID:America/Toronto
X-LIC-LOCATION:America/Toronto
BEGIN:DAYLIGHT
TZNAME:EDT
TZOFFSETFROM:-0500
TZOFFSETTO:-0400
DTSTART:20230312T070000
END:DAYLIGHT
BEGIN:STANDARD
TZNAME:EST
TZOFFSETFROM:-0400
TZOFFSETTO:-0500
DTSTART:20221106T060000
END:STANDARD
END:VTIMEZONE
BEGIN:VEVENT
UID:69c5670671e1e
DTSTART;TZID=America/Toronto:20230329T113000
SEQUENCE:0
TRANSP:TRANSPARENT
DTEND;TZID=America/Toronto:20230329T133000
URL:https://uwaterloo.ca/geographies-of-health-in-place/events/forging-ahea
 d-leveraging-tech-revolutionize-health-care
SUMMARY:Forging ahead: leveraging tech to revolutionize health care in Cana
 da
CLASS:PUBLIC
DESCRIPTION:Join CityAge and Communitech and engage in a meaningful dialogu
 e about\nleveraging health and medical tech to improve the quality of care
 \nneeded and deserved by all Canadians. The event will be free to attend\n
 and hosted virtually. Susan Elliott's former PhD student Kate Mulligan\n(i
 naugural director of the Canadian Centre for Social Prescribing) and\nUniv
 ersity of Waterloo President Vivek Goel will be speakers at this\nevent!
DTSTAMP:20260326T170406Z
END:VEVENT
END:VCALENDAR