BEGIN:VCALENDAR
VERSION:2.0
PRODID:-//Drupal iCal API//EN
X-WR-CALNAME:Events items teaser
X-WR-TIMEZONE:America/Toronto
BEGIN:VTIMEZONE
TZID:America/Toronto
X-LIC-LOCATION:America/Toronto
BEGIN:DAYLIGHT
TZNAME:EDT
TZOFFSETFROM:-0500
TZOFFSETTO:-0400
DTSTART:20260308T070000
END:DAYLIGHT
BEGIN:STANDARD
TZNAME:EST
TZOFFSETFROM:-0400
TZOFFSETTO:-0500
DTSTART:20251102T060000
END:STANDARD
END:VTIMEZONE
BEGIN:VEVENT
UID:69c752a1a7416
DTSTART;TZID=America/Toronto:20260320T100000
SEQUENCE:0
TRANSP:TRANSPARENT
DTEND;TZID=America/Toronto:20260320T180000
URL:https://uwaterloo.ca/geographies-of-health-in-place/events/world-water-
 day
SUMMARY:World Water Day
CLASS:PUBLIC
DESCRIPTION:Celebrate World Water Day 2026 with the Water Institute! Join u
 s for a\nfull-day conference featuring inspiring keynote speakers\, a show
 case\nof innovative student research\, award presentations and networking\
 nopportunities. Don't miss this exciting annual event!
DTSTAMP:20260328T040137Z
END:VEVENT
END:VCALENDAR