BEGIN:VCALENDAR
VERSION:2.0
PRODID:-//Drupal iCal API//EN
X-WR-CALNAME:Events items teaser
X-WR-TIMEZONE:America/Toronto
BEGIN:VTIMEZONE
TZID:America/Toronto
X-LIC-LOCATION:America/Toronto
BEGIN:DAYLIGHT
TZNAME:EDT
TZOFFSETFROM:-0500
TZOFFSETTO:-0400
DTSTART:20260308T070000
END:DAYLIGHT
BEGIN:STANDARD
TZNAME:EST
TZOFFSETFROM:-0400
TZOFFSETTO:-0500
DTSTART:20251102T060000
END:STANDARD
END:VTIMEZONE
BEGIN:VEVENT
UID:69c688b91399d
DTSTART;VALUE=DATE:20260601
SEQUENCE:0
TRANSP:TRANSPARENT
DTEND;VALUE=DATE:20260605
URL:https://uwaterloo.ca/geographies-of-health-in-place/events/cag-annual-m
 eeting
SUMMARY:CAG Annual Meeting
CLASS:PUBLIC
DESCRIPTION:The Canadian Association of Geographers (CAG) annual meeting w
 ill\ntake place June 1-4\, 2026 at the University of Victoria.\n\nJoin the
  Canadian Association of Geographers-CAG / Association\nCanadienne des Gé
 ographes-ACG and the Association of Canadian Map\nLibraries and Archives-A
 CMLA / Association des Cartothèques et\nArchives Cartographiques du Canad
 a-ACACC on Lək̓ʷəŋən territory\,\nalso known as Victoria BC\, on Jun
 e 1-4\, 2026. This year’s theme\nis _Resilience. _Join us as we work t
 ogether to wrestle with these\nissues\, offer solutions\, and take action.
X-MICROSOFT-CDO-ALLDAYEVENT:TRUE
DTSTAMP:20260327T134009Z
END:VEVENT
END:VCALENDAR