BEGIN:VCALENDAR
VERSION:2.0
PRODID:-//Drupal iCal API//EN
X-WR-CALNAME:Events items teaser
X-WR-TIMEZONE:America/Toronto
BEGIN:VTIMEZONE
TZID:America/Toronto
X-LIC-LOCATION:America/Toronto
BEGIN:DAYLIGHT
TZNAME:EDT
TZOFFSETFROM:-0500
TZOFFSETTO:-0400
DTSTART:20260308T070000
END:DAYLIGHT
BEGIN:STANDARD
TZNAME:EST
TZOFFSETFROM:-0400
TZOFFSETTO:-0500
DTSTART:20251102T060000
END:STANDARD
END:VTIMEZONE
BEGIN:VEVENT
UID:69c752a070141
DTSTART;VALUE=DATE:20260712
SEQUENCE:0
TRANSP:TRANSPARENT
DTEND;VALUE=DATE:20260718
URL:https://uwaterloo.ca/geographies-of-health-in-place/events/2026-interna
 tional-medical-geography-symposium-imgs
SUMMARY:2026 International Medical Geography Symposium (IMGS)
CLASS:PUBLIC
DESCRIPTION:The 2026 INTERNATIONAL MEDICAL GEOGRAPHY SYMPOSIUM (IMGS)\, the
 med\n_Geographies of Wellbeing: Environments\, Transitions\, and the Futur
 es\nof Societal Wellbeing_\, will be held at Toronto Metropolitan\nUnivers
 ity. Bringing together scholars\, researchers\, and\npractitioners\, the s
 ymposium will explore how global transitions shape\nsocietal wellbeing thr
 ough interdisciplinary dialogue and innovation.\n\nREGISTRATION AND ABSTRA
 CT SUBMISSION ARE NOW OPEN.
X-MICROSOFT-CDO-ALLDAYEVENT:TRUE
DTSTAMP:20260328T040136Z
END:VEVENT
END:VCALENDAR