BEGIN:VCALENDAR
VERSION:2.0
PRODID:-//Drupal iCal API//EN
X-WR-CALNAME:Events items teaser
X-WR-TIMEZONE:America/Toronto
BEGIN:VTIMEZONE
TZID:America/Toronto
X-LIC-LOCATION:America/Toronto
BEGIN:DAYLIGHT
TZNAME:EDT
TZOFFSETFROM:-0500
TZOFFSETTO:-0400
DTSTART:20260308T070000
END:DAYLIGHT
BEGIN:STANDARD
TZNAME:EST
TZOFFSETFROM:-0400
TZOFFSETTO:-0500
DTSTART:20251102T060000
END:STANDARD
END:VTIMEZONE
BEGIN:VEVENT
UID:69e6e9811df0f
DTSTART;TZID=America/Toronto:20260429T150000
SEQUENCE:0
TRANSP:TRANSPARENT
DTEND;TZID=America/Toronto:20260429T155000
URL:https://uwaterloo.ca/geography-environmental-management/events/gem-semi
 nar-series-6
LOCATION:EV1 - Environment 1 132 200 University Ave West Waterloo ON N2L 3G
 1 Canada
SUMMARY:GEM Seminar Series
CLASS:PUBLIC
DESCRIPTION:LOCATION: EV1-132\n\nSPEAKER: Tamara Marchant\n\nTITLE: Evaluat
 ing Evolving Dynamics of Belcher Glacier\, Nunavut\,\nCanada\n\nSPEAKER: T
 yler Herrington\n\nTITLE: Investigating Reanalysis and LDAS Soil Temperatu
 re Performance\nover the Extratropical Northern Hemisphere
DTSTAMP:20260421T030537Z
END:VEVENT
END:VCALENDAR