BEGIN:VCALENDAR
VERSION:2.0
PRODID:-//Drupal iCal API//EN
X-WR-CALNAME:Events items teaser
X-WR-TIMEZONE:America/Toronto
BEGIN:VTIMEZONE
TZID:America/Toronto
X-LIC-LOCATION:America/Toronto
BEGIN:DAYLIGHT
TZNAME:EDT
TZOFFSETFROM:-0500
TZOFFSETTO:-0400
DTSTART:20130310T070000
END:DAYLIGHT
BEGIN:STANDARD
TZNAME:EST
TZOFFSETFROM:-0400
TZOFFSETTO:-0500
DTSTART:20121104T060000
END:STANDARD
END:VTIMEZONE
BEGIN:VEVENT
UID:69eb7fd121023
DTSTART;VALUE=DATE:20130920
SEQUENCE:0
TRANSP:TRANSPARENT
DTEND;VALUE=DATE:20130921
URL:https://uwaterloo.ca/geography-environmental-management/events/ryan-aho
 la-parameterization-implementation-soil-radar
LOCATION:EV1 - Environment 1 200 University Ave West Room 221 Waterloo ON N
 2L 3G1 Canada
SUMMARY:Ryan Ahola\, \"Parameterization &amp; Implementation of a Soil Radar\nB
 ackscatter Model with Applicability to Radar Observations of a\nsub-Arctic
  Environment\"
CLASS:PUBLIC
DESCRIPTION:Any member of the Faculty of Environment is welcome to attend t
 his\nthesis defence\, which provides an insight into current research\nact
 ivities within the Waterloo-Laurier Graduate Program in Geography.
X-MICROSOFT-CDO-ALLDAYEVENT:TRUE
DTSTAMP:20260424T143601Z
END:VEVENT
END:VCALENDAR