BEGIN:VCALENDAR
VERSION:2.0
PRODID:-//Drupal iCal API//EN
X-WR-CALNAME:Events items teaser
X-WR-TIMEZONE:America/Toronto
BEGIN:VTIMEZONE
TZID:America/Toronto
X-LIC-LOCATION:America/Toronto
BEGIN:DAYLIGHT
TZNAME:EDT
TZOFFSETFROM:-0500
TZOFFSETTO:-0400
DTSTART:20130310T070000
END:DAYLIGHT
BEGIN:STANDARD
TZNAME:EST
TZOFFSETFROM:-0400
TZOFFSETTO:-0500
DTSTART:20131103T060000
END:STANDARD
END:VTIMEZONE
BEGIN:VEVENT
UID:69eb50fec7019
DTSTART;VALUE=DATE:20140120
SEQUENCE:0
TRANSP:TRANSPARENT
DTEND;VALUE=DATE:20140121
URL:https://uwaterloo.ca/geography-environmental-management/events/joshua-k
 ing-remote-sensing-observations-tundra-snow-ku-and-x
LOCATION:EV1 - Environment 1 200 University Ave West Room 221 Waterloo ON N
 2L 3G1 Canada
SUMMARY:Joshua King \"Remote Sensing Observations of Tundra Snow With Ku- a
 nd\nX-band Radar\"
CLASS:PUBLIC
DESCRIPTION:Any member of the Faculty of Environment is welcome to attend t
 his\nthesis defence\, which provides an insight into current research\nact
 ivities within the Waterloo-Laurier Graduate Program in Geography.\n\nAny 
 member of the Faculty of Environment is welcome to attend.\nA copy of the 
 thesis is available in EV1\, Room 123
X-MICROSOFT-CDO-ALLDAYEVENT:TRUE
DTSTAMP:20260424T111614Z
END:VEVENT
END:VCALENDAR