BEGIN:VCALENDAR
VERSION:2.0
PRODID:-//Drupal iCal API//EN
X-WR-CALNAME:Events items teaser
X-WR-TIMEZONE:America/Toronto
BEGIN:VTIMEZONE
TZID:America/Toronto
X-LIC-LOCATION:America/Toronto
BEGIN:DAYLIGHT
TZNAME:EDT
TZOFFSETFROM:-0500
TZOFFSETTO:-0400
DTSTART:20130310T070000
END:DAYLIGHT
BEGIN:STANDARD
TZNAME:EST
TZOFFSETFROM:-0400
TZOFFSETTO:-0500
DTSTART:20131103T060000
END:STANDARD
END:VTIMEZONE
BEGIN:VEVENT
UID:69eb98ef381ca
DTSTART;VALUE=DATE:20140212
SEQUENCE:0
TRANSP:TRANSPARENT
DTEND;VALUE=DATE:20140213
URL:https://uwaterloo.ca/geography-environmental-management/events/haowen-y
 an-theory-spatial-similarity-relations-and-its
LOCATION:EV1 - Environment 1 200 University Ave West Room 221 Waterloo ON N
 2L 3G1 Canada
SUMMARY:Haowen Yan \"Theory of Spatial Similarity Relations and its\nApplic
 ations in Automated Map Generalization\"
CLASS:PUBLIC
DESCRIPTION:Any member of the Faculty of Environment is welcome to attend t
 his\nthesis defence\, which provides an insight into current research\nact
 ivities within the Waterloo-Laurier Graduate Program in Geography.\n\nAny 
 member of the Faculty of Environment is welcome to attend.\nA copy of the 
 thesis is available in EV1\, Room 123
X-MICROSOFT-CDO-ALLDAYEVENT:TRUE
DTSTAMP:20260424T162311Z
END:VEVENT
END:VCALENDAR