BEGIN:VCALENDAR
VERSION:2.0
PRODID:-//Drupal iCal API//EN
X-WR-CALNAME:Events items teaser
X-WR-TIMEZONE:America/Toronto
BEGIN:VTIMEZONE
TZID:America/Toronto
X-LIC-LOCATION:America/Toronto
BEGIN:DAYLIGHT
TZNAME:EDT
TZOFFSETFROM:-0500
TZOFFSETTO:-0400
DTSTART:20140309T070000
END:DAYLIGHT
BEGIN:DAYLIGHT
TZNAME:EDT
TZOFFSETFROM:-0500
TZOFFSETTO:-0400
DTSTART:20130310T070000
END:DAYLIGHT
BEGIN:STANDARD
TZNAME:EST
TZOFFSETFROM:-0400
TZOFFSETTO:-0500
DTSTART:20131103T060000
END:STANDARD
BEGIN:STANDARD
TZNAME:EST
TZOFFSETFROM:-0400
TZOFFSETTO:-0500
DTSTART:20121104T060000
END:STANDARD
END:VTIMEZONE
BEGIN:VEVENT
UID:69eb7ea037f5e
DTSTART;VALUE=DATE:20140526
SEQUENCE:0
TRANSP:TRANSPARENT
DTEND;VALUE=DATE:20140527
URL:https://uwaterloo.ca/geography-environmental-management/events/guest-le
 cture
LOCATION:EV3 - Environment 3 200 University Avenue West Room 4412 Waterloo 
 ON N2L 3G1 Canada
SUMMARY:Guest Lecture
CLASS:PUBLIC
DESCRIPTION:AGENT-BASED MODELLING AND GIS: APPLICATIONS TO LAND USE CHANGE 
 AND\nENVIRONMENTAL MODELLING
X-MICROSOFT-CDO-ALLDAYEVENT:TRUE
DTSTAMP:20260424T143056Z
END:VEVENT
BEGIN:VEVENT
UID:69eb7ea03c286
DTSTART;TZID=America/Toronto:20140324T120000
SEQUENCE:0
TRANSP:TRANSPARENT
DTEND;TZID=America/Toronto:20140324T131500
URL:https://uwaterloo.ca/geography-environmental-management/events/dr-heath
 er-mcnairn-agriculture-and-agri-food-canada
LOCATION:EV1 - Environment 1 200 University Ave West Room 221 Waterloo ON N
 2L 3G1 Canada
SUMMARY:Dr. Heather McNairn\, Agriculture and Agri-Food Canada
CLASS:PUBLIC
DESCRIPTION:The Department of Geography and Environmental Management at the
 \nUniversity of Waterloo welcomes Dr. Heather McNairn\, Research\nScientis
 t at Agriculture and Agri-Food Canada who will be presenting\n\"Optical an
 d Radar Satellites to Map and Monitor Canadian Agriculture:\nCurrent Activ
 ities and Future Opportunities\"
DTSTAMP:20260424T143056Z
END:VEVENT
BEGIN:VEVENT
UID:69eb7ea03d09d
DTSTART;VALUE=DATE:20140212
SEQUENCE:0
TRANSP:TRANSPARENT
DTEND;VALUE=DATE:20140213
URL:https://uwaterloo.ca/geography-environmental-management/events/haowen-y
 an-theory-spatial-similarity-relations-and-its
LOCATION:EV1 - Environment 1 200 University Ave West Room 221 Waterloo ON N
 2L 3G1 Canada
SUMMARY:Haowen Yan \"Theory of Spatial Similarity Relations and its\nApplic
 ations in Automated Map Generalization\"
CLASS:PUBLIC
DESCRIPTION:Any member of the Faculty of Environment is welcome to attend t
 his\nthesis defence\, which provides an insight into current research\nact
 ivities within the Waterloo-Laurier Graduate Program in Geography.\n\nAny 
 member of the Faculty of Environment is welcome to attend.\nA copy of the 
 thesis is available in EV1\, Room 123
X-MICROSOFT-CDO-ALLDAYEVENT:TRUE
DTSTAMP:20260424T143056Z
END:VEVENT
BEGIN:VEVENT
UID:69eb7ea03de26
DTSTART;VALUE=DATE:20140120
SEQUENCE:0
TRANSP:TRANSPARENT
DTEND;VALUE=DATE:20140121
URL:https://uwaterloo.ca/geography-environmental-management/events/joshua-k
 ing-remote-sensing-observations-tundra-snow-ku-and-x
LOCATION:EV1 - Environment 1 200 University Ave West Room 221 Waterloo ON N
 2L 3G1 Canada
SUMMARY:Joshua King \"Remote Sensing Observations of Tundra Snow With Ku- a
 nd\nX-band Radar\"
CLASS:PUBLIC
DESCRIPTION:Any member of the Faculty of Environment is welcome to attend t
 his\nthesis defence\, which provides an insight into current research\nact
 ivities within the Waterloo-Laurier Graduate Program in Geography.\n\nAny 
 member of the Faculty of Environment is welcome to attend.\nA copy of the 
 thesis is available in EV1\, Room 123
X-MICROSOFT-CDO-ALLDAYEVENT:TRUE
DTSTAMP:20260424T143056Z
END:VEVENT
BEGIN:VEVENT
UID:69eb7ea03eaa3
DTSTART;VALUE=DATE:20140129
SEQUENCE:0
TRANSP:TRANSPARENT
DTEND;VALUE=DATE:20140130
URL:https://uwaterloo.ca/geography-environmental-management/events/haiyan-g
 uan-automated-extraction-road-information-mobile
LOCATION:EV1 - Environment 1 200 University Ave West Room 211 Waterloo ON N
 2L 3G1 Canada
SUMMARY:Haiyan Guan \"Automated Extraction of Road Information from Mobile\
 nLaser Scanning Data\"
CLASS:PUBLIC
DESCRIPTION:Any member of the Faculty of Environment is welcome to attend t
 his\nthesis defence\, which provides an insight into current research\nact
 ivities within the Waterloo-Laurier Graduate Program in Geography.\n\nAny 
 member of the Faculty of Environment is welcome to attend.\nA copy of the 
 thesis is available in EV1\, Room 123
X-MICROSOFT-CDO-ALLDAYEVENT:TRUE
DTSTAMP:20260424T143056Z
END:VEVENT
BEGIN:VEVENT
UID:69eb7ea03f633
DTSTART;TZID=America/Toronto:20131128T130000
SEQUENCE:0
TRANSP:TRANSPARENT
DTEND;TZID=America/Toronto:20131128T170000
URL:https://uwaterloo.ca/geography-environmental-management/events/phd-stud
 ent-colloquium-diversity-geography-addressing-global
LOCATION:DC - William G. Davis Computer Research Centre 200 University Aven
 ue West Davis Conference Room Waterloo ON N2L 3G1 Canada
SUMMARY:Ph.D. Student Colloquium \"Diversity in Geography: Addressing Globa
 l\nIssues\"
CLASS:PUBLIC
DESCRIPTION:The Ph.D. student colloquium \"Diversity in Geography: Addressi
 ng\nGlobal Issues\" will showcase the research of the new cohort of Ph.D.\
 nstudents of the joint Waterloo-Laurier graduate program in Geography\nin 
 a casual atmosphere.This year's thematic areas are \"Change in\nCanada's N
 orth\" and \"Emerging Issues in a Changing World\"\n\nPlease join us for t
 his event\n[/geography-environmental-management/sites/ca.geography-environ
 mental-management/files/uploads/files/phd_colloquium_program_2013.pdf].
DTSTAMP:20260424T143056Z
END:VEVENT
BEGIN:VEVENT
UID:69eb7ea040234
DTSTART;VALUE=DATE:20131117
SEQUENCE:0
TRANSP:TRANSPARENT
DTEND;VALUE=DATE:20131124
URL:https://uwaterloo.ca/geography-environmental-management/events/geograph
 y-awareness-week
SUMMARY:Geography Awareness Week
CLASS:PUBLIC
DESCRIPTION:This year’s theme is “The New Age of Exploration” remindi
 ng us\nthat “geography enables us all to be intrepid explorers in our ow
 n\nway”.  This coincides with the National Geographic Society’s\n125t
 h birthday. 
X-MICROSOFT-CDO-ALLDAYEVENT:TRUE
DTSTAMP:20260424T143056Z
END:VEVENT
BEGIN:VEVENT
UID:69eb7ea040c84
DTSTART;VALUE=DATE:20131120
SEQUENCE:0
TRANSP:TRANSPARENT
DTEND;VALUE=DATE:20131121
URL:https://uwaterloo.ca/geography-environmental-management/events/gis-day-
 0
LOCATION:EV1 - Environment 1 200 University Ave West courtyard Waterloo ON 
 N2L 3G1 Canada
SUMMARY:GIS Day
CLASS:PUBLIC
DESCRIPTION:GIS Day is a global event [https://www.gisday.com/en-us/overvie
 w] to\neducate people about how geography makes a difference in our lives\
 nthrough the technology of Geographic Information Systems (GIS).
X-MICROSOFT-CDO-ALLDAYEVENT:TRUE
DTSTAMP:20260424T143056Z
END:VEVENT
BEGIN:VEVENT
UID:69eb7ea0417d3
DTSTART;VALUE=DATE:20130920
SEQUENCE:0
TRANSP:TRANSPARENT
DTEND;VALUE=DATE:20130921
URL:https://uwaterloo.ca/geography-environmental-management/events/ryan-aho
 la-parameterization-implementation-soil-radar
LOCATION:EV1 - Environment 1 200 University Ave West Room 221 Waterloo ON N
 2L 3G1 Canada
SUMMARY:Ryan Ahola\, \"Parameterization &amp; Implementation of a Soil Radar\nB
 ackscatter Model with Applicability to Radar Observations of a\nsub-Arctic
  Environment\"
CLASS:PUBLIC
DESCRIPTION:Any member of the Faculty of Environment is welcome to attend t
 his\nthesis defence\, which provides an insight into current research\nact
 ivities within the Waterloo-Laurier Graduate Program in Geography.
X-MICROSOFT-CDO-ALLDAYEVENT:TRUE
DTSTAMP:20260424T143056Z
END:VEVENT
BEGIN:VEVENT
UID:69eb7ea0424cb
DTSTART;VALUE=DATE:20131004
SEQUENCE:0
TRANSP:TRANSPARENT
DTEND;VALUE=DATE:20131005
URL:https://uwaterloo.ca/geography-environmental-management/events/brian-p-
 neff-traps-and-transformations-grenadian-water
LOCATION:EV1 - Environment 1 200 University Ave West Room 221 Waterloo ON N
 2L 3G1 Canada
SUMMARY:Brian P. Neff\, \"Traps and Transformations of Grenadian Water\nMan
 agement\"
CLASS:PUBLIC
DESCRIPTION:Any member of the Faculty of Environment is welcome to attend t
 his\nthesis defence\, which provides an insight into current research\nact
 ivities within the Waterloo-Laurier Graduate Program in Geography.
X-MICROSOFT-CDO-ALLDAYEVENT:TRUE
DTSTAMP:20260424T143056Z
END:VEVENT
END:VCALENDAR