BEGIN:VCALENDAR
VERSION:2.0
PRODID:-//Drupal iCal API//EN
X-WR-CALNAME:Events items teaser
X-WR-TIMEZONE:America/Toronto
BEGIN:VTIMEZONE
TZID:America/Toronto
X-LIC-LOCATION:America/Toronto
BEGIN:DAYLIGHT
TZNAME:EDT
TZOFFSETFROM:-0500
TZOFFSETTO:-0400
DTSTART:20180311T070000
END:DAYLIGHT
BEGIN:STANDARD
TZNAME:EST
TZOFFSETFROM:-0400
TZOFFSETTO:-0500
DTSTART:20171105T060000
END:STANDARD
END:VTIMEZONE
BEGIN:VEVENT
UID:69b2c8aab27df
DTSTART;TZID=America/Toronto:20180404T130000
SEQUENCE:0
TRANSP:TRANSPARENT
DTEND;TZID=America/Toronto:20180404T143000
URL:https://uwaterloo.ca/germanic-slavic-studies/events/cyberbullying-lingu
 istic-perspective
LOCATION:HH - J.G. Hagey Hall of the Humanities 200 University Avenue West 
 373 Waterloo ON N2L 3G1 Canada
SUMMARY:Cyberbullying - A Linguistic Perspective
CLASS:PUBLIC
DESCRIPTION:Prof. Dr. Konstanze Marx\, Professor of German Linguistics at t
 he\nUniversity of Mannheim\, will be visiting the University of Waterloo t
 o\ngive a lecture on cyberbullying.
DTSTAMP:20260312T140738Z
END:VEVENT
END:VCALENDAR