BEGIN:VCALENDAR
VERSION:2.0
PRODID:-//Drupal iCal API//EN
X-WR-CALNAME:Events items teaser
X-WR-TIMEZONE:America/Toronto
BEGIN:VTIMEZONE
TZID:America/Toronto
X-LIC-LOCATION:America/Toronto
BEGIN:DAYLIGHT
TZNAME:EDT
TZOFFSETFROM:-0500
TZOFFSETTO:-0400
DTSTART:20190310T070000
END:DAYLIGHT
BEGIN:STANDARD
TZNAME:EST
TZOFFSETFROM:-0400
TZOFFSETTO:-0500
DTSTART:20181104T060000
END:STANDARD
END:VTIMEZONE
BEGIN:VEVENT
UID:69b05f2b195fd
DTSTART;TZID=America/Toronto:20191008T160000
SEQUENCE:0
TRANSP:TRANSPARENT
DTEND;TZID=America/Toronto:20191008T160000
URL:https://uwaterloo.ca/germanic-slavic-studies/events/corpora-spoken-germ
 an-hidden-treasures-and-their-potential
LOCATION:Canada
SUMMARY:Corpora of spoken German: ‘Hidden treasures’ and their potentia
 l\nuses
CLASS:PUBLIC
DESCRIPTION:The Waterloo Centre for German Studies and Department of German
 ic and\nSlavic Studies welcome Dr. Silke Reineke of the Leibniz Institute 
 for\nthe German Language (IDS) on Tuesday\, October 8th\, 2019.
DTSTAMP:20260310T181259Z
END:VEVENT
END:VCALENDAR