BEGIN:VCALENDAR
VERSION:2.0
PRODID:-//Drupal iCal API//EN
X-WR-CALNAME:Events items teaser
X-WR-TIMEZONE:America/Toronto
BEGIN:VTIMEZONE
TZID:America/Toronto
X-LIC-LOCATION:America/Toronto
BEGIN:DAYLIGHT
TZNAME:EDT
TZOFFSETFROM:-0500
TZOFFSETTO:-0400
DTSTART:20190310T070000
END:DAYLIGHT
BEGIN:STANDARD
TZNAME:EST
TZOFFSETFROM:-0400
TZOFFSETTO:-0500
DTSTART:20191103T060000
END:STANDARD
END:VTIMEZONE
BEGIN:VEVENT
UID:69b4f06363940
DTSTART;TZID=America/Toronto:20191121T120000
SEQUENCE:0
TRANSP:TRANSPARENT
DTEND;TZID=America/Toronto:20191121T130000
URL:https://uwaterloo.ca/global-engagement/events/iew-funding-your-graduate
 -international-experience
LOCATION:NH - Ira G. Needles Hall 200 University Avenue West 3318 Waterloo 
 ON N2L 3G1 Canada
SUMMARY:IEW - Funding your Graduate International Experience
CLASS:PUBLIC
DESCRIPTION:FUNDING YOUR GRADUATE INTERNATIONAL EXPERIENCE\n\nInternational
  education has a significant impact on our campus\ncommunity and Canadian 
 social\, economic and cultural well-being.
DTSTAMP:20260314T052139Z
END:VEVENT
END:VCALENDAR