BEGIN:VCALENDAR
VERSION:2.0
PRODID:-//Drupal iCal API//EN
X-WR-CALNAME:Events items teaser
X-WR-TIMEZONE:America/Toronto
BEGIN:VTIMEZONE
TZID:America/Toronto
X-LIC-LOCATION:America/Toronto
BEGIN:DAYLIGHT
TZNAME:EDT
TZOFFSETFROM:-0500
TZOFFSETTO:-0400
DTSTART:20200308T070000
END:DAYLIGHT
BEGIN:STANDARD
TZNAME:EST
TZOFFSETFROM:-0400
TZOFFSETTO:-0500
DTSTART:20191103T060000
END:STANDARD
END:VTIMEZONE
BEGIN:VEVENT
UID:69b47fef8f590
DTSTART;TZID=America/Toronto:20201007T100000
SEQUENCE:0
TRANSP:TRANSPARENT
DTEND;TZID=America/Toronto:20201007T113000
URL:https://uwaterloo.ca/global-engagement/events/understanding-impact-covi
 d-19-pandemic-canadian-humanitarian
SUMMARY:Understanding the Impact of the Covid-19 Pandemic on the Canadian\n
 Humanitarian and Development Sector: A Presentation of Research\nFindings
CLASS:PUBLIC
DESCRIPTION:Join a University of Guelph / CAIDP webinar to present and dis
 cuss\nfindings of recent research about the impact of the Covid-19 pandemi
 c\non Canadian humanitarian and development organisations. Conducted by\ns
 cholars at the Guelph Institute of Development Studies at the\nUniversity 
 of Guelph\, the research surveyed 154 Canadian organisations\nabout the ch
 allenges and impacts of the pandemic on their operations\nas well as colle
 cted information about these organisations’ response\nstrategies.
DTSTAMP:20260313T212151Z
END:VEVENT
END:VCALENDAR