BEGIN:VCALENDAR
VERSION:2.0
PRODID:-//Drupal iCal API//EN
X-WR-CALNAME:Events items teaser
X-WR-TIMEZONE:America/Toronto
BEGIN:VTIMEZONE
TZID:America/Toronto
X-LIC-LOCATION:America/Toronto
BEGIN:DAYLIGHT
TZNAME:EDT
TZOFFSETFROM:-0500
TZOFFSETTO:-0400
DTSTART:20200308T070000
END:DAYLIGHT
BEGIN:STANDARD
TZNAME:EST
TZOFFSETFROM:-0400
TZOFFSETTO:-0500
DTSTART:20201101T060000
END:STANDARD
END:VTIMEZONE
BEGIN:VEVENT
UID:69b47ff317828
DTSTART;TZID=America/Toronto:20210223T080000
SEQUENCE:0
TRANSP:TRANSPARENT
DTEND;TZID=America/Toronto:20210223T093000
URL:https://uwaterloo.ca/global-engagement/events/supporting-evidence-secur
 e-sdgs-opening-introduction-series
SUMMARY:Supporting evidence to secure the SDGs &amp; Opening Introduction to\nS
 eries
CLASS:PUBLIC
DESCRIPTION:University of Strathclyde is hosting a webinar series led by\nS
 trathclyde and its global partner Universities on how Universities\ncan co
 ntribute to the acceleration of progress towards the Sustainable\nDevelopm
 ent Goals.
DTSTAMP:20260313T212155Z
END:VEVENT
END:VCALENDAR