BEGIN:VCALENDAR
VERSION:2.0
PRODID:-//Drupal iCal API//EN
X-WR-CALNAME:Events items teaser
X-WR-TIMEZONE:America/Toronto
BEGIN:VTIMEZONE
TZID:America/Toronto
X-LIC-LOCATION:America/Toronto
BEGIN:DAYLIGHT
TZNAME:EDT
TZOFFSETFROM:-0500
TZOFFSETTO:-0400
DTSTART:20200308T070000
END:DAYLIGHT
BEGIN:STANDARD
TZNAME:EST
TZOFFSETFROM:-0400
TZOFFSETTO:-0500
DTSTART:20201101T060000
END:STANDARD
END:VTIMEZONE
BEGIN:VEVENT
UID:69b5c95ac8045
DTSTART;TZID=America/Toronto:20210302T080000
SEQUENCE:0
TRANSP:TRANSPARENT
DTEND;TZID=America/Toronto:20210302T093000
URL:https://uwaterloo.ca/global-engagement/events/university-partnerships-a
 dvance-sdgs-local-national-and
SUMMARY:University partnerships to advance the SDGs: local\, national\, and
 \ninternational examples
CLASS:PUBLIC
DESCRIPTION:Drawing upon experiences from the University of Waterloo – on
 e of\nCanada’s leading higher education institutions – speakers will\n
 discuss the roles that partnerships play in advancing the SDGs.
DTSTAMP:20260314T204722Z
END:VEVENT
END:VCALENDAR