BEGIN:VCALENDAR
VERSION:2.0
PRODID:-//Drupal iCal API//EN
X-WR-CALNAME:Events items teaser
X-WR-TIMEZONE:America/Toronto
BEGIN:VTIMEZONE
TZID:America/Toronto
X-LIC-LOCATION:America/Toronto
BEGIN:DAYLIGHT
TZNAME:EDT
TZOFFSETFROM:-0500
TZOFFSETTO:-0400
DTSTART:20200308T070000
END:DAYLIGHT
BEGIN:STANDARD
TZNAME:EST
TZOFFSETFROM:-0400
TZOFFSETTO:-0500
DTSTART:20201101T060000
END:STANDARD
END:VTIMEZONE
BEGIN:VEVENT
UID:69b47fe78d215
DTSTART;TZID=America/Toronto:20210309T080000
SEQUENCE:0
TRANSP:TRANSPARENT
DTEND;TZID=America/Toronto:20210309T093000
URL:https://uwaterloo.ca/global-engagement/events/our-sustainable-developme
 nt-journey-and-future-strategy
SUMMARY:Our sustainable development journey\, and the future strategy of\nU
 niversities
CLASS:PUBLIC
DESCRIPTION:Integrating sustainable development into the university's opera
 tions\nrequires systematic and long-term work with leadership and commitme
 nt\nfrom employees. An important issue is how the faculty and the\nadminis
 tration can work together to strengthen the integration of\nsustainable de
 velopment into the organization and the mission.
DTSTAMP:20260313T212143Z
END:VEVENT
END:VCALENDAR