BEGIN:VCALENDAR
VERSION:2.0
PRODID:-//Drupal iCal API//EN
X-WR-CALNAME:Events items teaser
X-WR-TIMEZONE:America/Toronto
BEGIN:VTIMEZONE
TZID:America/Toronto
X-LIC-LOCATION:America/Toronto
BEGIN:DAYLIGHT
TZNAME:EDT
TZOFFSETFROM:-0500
TZOFFSETTO:-0400
DTSTART:20210314T070000
END:DAYLIGHT
BEGIN:STANDARD
TZNAME:EST
TZOFFSETFROM:-0400
TZOFFSETTO:-0500
DTSTART:20201101T060000
END:STANDARD
END:VTIMEZONE
BEGIN:VEVENT
UID:69b47ff1977e0
DTSTART;TZID=America/Toronto:20210316T080000
SEQUENCE:0
TRANSP:TRANSPARENT
DTEND;TZID=America/Toronto:20210316T093000
URL:https://uwaterloo.ca/global-engagement/events/delivering-social-impact-
 through-transformative-community
SUMMARY:Delivering social impact through transformative community engagemen
 ts
CLASS:PUBLIC
DESCRIPTION:This webinar will examine the role and responsibility business 
 schools\nhave in delivering meaningful social impact in meeting the SDGs. 
 With\na focus on social justice and inclusion\, Armand Bam will explore\nt
 hrough presentation and interviews examples of successful community\npartn
 erships and student engagements at the University of Stellenbosch\nBusines
 s School.
DTSTAMP:20260313T212153Z
END:VEVENT
END:VCALENDAR