BEGIN:VCALENDAR
VERSION:2.0
PRODID:-//Drupal iCal API//EN
X-WR-CALNAME:Events items teaser
X-WR-TIMEZONE:America/Toronto
BEGIN:VTIMEZONE
TZID:America/Toronto
X-LIC-LOCATION:America/Toronto
BEGIN:DAYLIGHT
TZNAME:EDT
TZOFFSETFROM:-0500
TZOFFSETTO:-0400
DTSTART:20210314T070000
END:DAYLIGHT
BEGIN:STANDARD
TZNAME:EST
TZOFFSETFROM:-0400
TZOFFSETTO:-0500
DTSTART:20201101T060000
END:STANDARD
END:VTIMEZONE
BEGIN:VEVENT
UID:69b47ff415ca5
DTSTART;TZID=America/Toronto:20210323T060000
SEQUENCE:0
TRANSP:TRANSPARENT
DTEND;TZID=America/Toronto:20210323T073000
URL:https://uwaterloo.ca/global-engagement/events/interdependencies-sdgs-ex
 amining-carbon-systems
SUMMARY:Interdependencies of SDGs - examining carbon systems
CLASS:PUBLIC
DESCRIPTION:This webinar aims to showcase some ways in which Peking Univers
 ity is\nworking towards the SDGs\, and the importance of interdisciplinari
 ty.\nProf Jie Song will Chair\, focusing on topics such as aligning climat
 e\nchange mitigation and clean air policies to maximise health\nco-benefit
 s\; and decarbonising energy conversion by using CO2.
DTSTAMP:20260313T212156Z
END:VEVENT
END:VCALENDAR