BEGIN:VCALENDAR
VERSION:2.0
PRODID:-//Drupal iCal API//EN
X-WR-CALNAME:Events items teaser
X-WR-TIMEZONE:America/Toronto
BEGIN:VTIMEZONE
TZID:America/Toronto
X-LIC-LOCATION:America/Toronto
BEGIN:DAYLIGHT
TZNAME:EDT
TZOFFSETFROM:-0500
TZOFFSETTO:-0400
DTSTART:20210314T070000
END:DAYLIGHT
BEGIN:STANDARD
TZNAME:EST
TZOFFSETFROM:-0400
TZOFFSETTO:-0500
DTSTART:20211107T060000
END:STANDARD
END:VTIMEZONE
BEGIN:VEVENT
UID:69b47feb9d043
DTSTART;VALUE=DATE:20211115
SEQUENCE:0
TRANSP:TRANSPARENT
DTEND;VALUE=DATE:20211120
URL:https://uwaterloo.ca/global-engagement/events/international-education-w
 eek-exchange-art-gallery
LOCATION:Waterloo ON Canada
SUMMARY:International Education Week Exchange Art Gallery
CLASS:PUBLIC
DESCRIPTION:It’s been a long time since Waterloo Warriors have gone on ex
 change\,\nbut we remain hopeful that students will travel in the 2022-23\n
 academic cycle. In celebration of International Education Week\, this\nexh
 ibit showcases 16 of the best photos that were submitted to our\nExchange 
 Photo Contests prior to the pandemic. The gallery is visible\nall week in 
 Campus Housing.\n\nCONTACT INFORMATION: studyabroad@uwaterloo.ca
X-MICROSOFT-CDO-ALLDAYEVENT:TRUE
DTSTAMP:20260313T212147Z
END:VEVENT
END:VCALENDAR