BEGIN:VCALENDAR
VERSION:2.0
PRODID:-//Drupal iCal API//EN
X-WR-CALNAME:Events items teaser
X-WR-TIMEZONE:America/Toronto
BEGIN:VTIMEZONE
TZID:America/Toronto
X-LIC-LOCATION:America/Toronto
BEGIN:DAYLIGHT
TZNAME:EDT
TZOFFSETFROM:-0500
TZOFFSETTO:-0400
DTSTART:20210314T070000
END:DAYLIGHT
BEGIN:STANDARD
TZNAME:EST
TZOFFSETFROM:-0400
TZOFFSETTO:-0500
DTSTART:20211107T060000
END:STANDARD
END:VTIMEZONE
BEGIN:VEVENT
UID:69b5cfd7ebcd1
DTSTART;TZID=America/Toronto:20211116T120000
SEQUENCE:0
TRANSP:TRANSPARENT
DTEND;TZID=America/Toronto:20211116T133000
URL:https://uwaterloo.ca/global-engagement/events/cq-cultural-intelligence-
 session
SUMMARY:CQ Cultural Intelligence Session
CLASS:PUBLIC
DESCRIPTION:Students are looking at a future that will present problems tha
 t\nrequire global solutions that come from intercultural teams.\nEducation
 al institutions across Canada are aspiring to graduate\nstudents who are e
 quipped to navigate a rapidly-evolving global\nlandscape that positions th
 em well towards identifying and solving\nthese global problems. Students f
 rom international backgrounds enrich\nour campuses with their diverse cult
 ures\, ideas\, values and\ntraditions. As part of the international educat
 ion community\, we\ninteract with organizations globally.
DTSTAMP:20260314T211503Z
END:VEVENT
END:VCALENDAR