BEGIN:VCALENDAR
VERSION:2.0
PRODID:-//Drupal iCal API//EN
X-WR-CALNAME:Events items teaser
X-WR-TIMEZONE:America/Toronto
BEGIN:VTIMEZONE
TZID:America/Toronto
X-LIC-LOCATION:America/Toronto
BEGIN:DAYLIGHT
TZNAME:EDT
TZOFFSETFROM:-0500
TZOFFSETTO:-0400
DTSTART:20210314T070000
END:DAYLIGHT
BEGIN:STANDARD
TZNAME:EST
TZOFFSETFROM:-0400
TZOFFSETTO:-0500
DTSTART:20211107T060000
END:STANDARD
END:VTIMEZONE
BEGIN:VEVENT
UID:69b476c8ee015
DTSTART;TZID=America/Toronto:20211117T220000
SEQUENCE:0
TRANSP:TRANSPARENT
DTEND;TZID=America/Toronto:20211117T230000
URL:https://uwaterloo.ca/global-engagement/events/virtual-cross-cultural-pl
 ane-trip
SUMMARY:Virtual Cross Cultural Plane Trip
CLASS:PUBLIC
DESCRIPTION:Want to travel and get to know new places from the comfort of y
 our\nhome? Join us for a fun cultural sharing experience as we learn about
 \nmany students’ hometowns from around the globe. Pack your bags\, get\n
 your passport\, and let’s explore the world!
DTSTAMP:20260313T204248Z
END:VEVENT
END:VCALENDAR