BEGIN:VCALENDAR
VERSION:2.0
PRODID:-//Drupal iCal API//EN
X-WR-CALNAME:Events items teaser
X-WR-TIMEZONE:America/Toronto
BEGIN:VTIMEZONE
TZID:America/Toronto
X-LIC-LOCATION:America/Toronto
BEGIN:DAYLIGHT
TZNAME:EDT
TZOFFSETFROM:-0500
TZOFFSETTO:-0400
DTSTART:20210314T070000
END:DAYLIGHT
BEGIN:STANDARD
TZNAME:EST
TZOFFSETFROM:-0400
TZOFFSETTO:-0500
DTSTART:20211107T060000
END:STANDARD
END:VTIMEZONE
BEGIN:VEVENT
UID:69b47ff4940de
DTSTART;TZID=America/Toronto:20211116T190000
SEQUENCE:0
TRANSP:TRANSPARENT
DTEND;TZID=America/Toronto:20211116T203000
URL:https://uwaterloo.ca/global-engagement/events/wpl-lecture-series-future
 -public-education-lessons-pandemic
SUMMARY:WPL Lecture Series: The Future of Public Education: Lessons from th
 e\nPandemic
CLASS:PUBLIC
DESCRIPTION:The COVID-19 pandemic has disrupted education systems in unprec
 edented\nways. The crisis exacerbated long-standing inequalities\, reveale
 d the\nlimits of technology\, raised questions about learning loss and\nre
 covery\, heightened concerns about corporatization\, exposed the value\nof
  teaching\, and much more. There is an urgent need to envision the\nfuture
  of public education for a post-pandemic world. What lessons\nhave we lear
 ned from the pandemic for public education systems in\nCanada?
DTSTAMP:20260313T212156Z
END:VEVENT
END:VCALENDAR