BEGIN:VCALENDAR
VERSION:2.0
PRODID:-//Drupal iCal API//EN
X-WR-CALNAME:Events items teaser
X-WR-TIMEZONE:America/Toronto
BEGIN:VTIMEZONE
TZID:America/Toronto
X-LIC-LOCATION:America/Toronto
BEGIN:DAYLIGHT
TZNAME:EDT
TZOFFSETFROM:-0500
TZOFFSETTO:-0400
DTSTART:20230312T070000
END:DAYLIGHT
BEGIN:STANDARD
TZNAME:EST
TZOFFSETFROM:-0400
TZOFFSETTO:-0500
DTSTART:20221106T060000
END:STANDARD
END:VTIMEZONE
BEGIN:VEVENT
UID:69b473c718a73
DTSTART;TZID=America/Toronto:20230524T130000
SEQUENCE:0
TRANSP:TRANSPARENT
DTEND;TZID=America/Toronto:20230524T140000
URL:https://uwaterloo.ca/global-engagement/events/staff-international-exper
 ience-fund-staff-enhancement
SUMMARY:Staff International Experience Fund &amp; Staff Enhancement Experience\
 n(SEE) Canada Grant information session
CLASS:PUBLIC
DESCRIPTION:The Staff International Experience Fund (SIEF)\n[/global-engage
 ment/node/497] and Staff Enhancement Experience (SEE)\nCanada Grant\n[http
 s://uwaterloo.ca/human-resources/strategic-partners-programs-and-initiativ
 es/see-canada-grant]\nare now open for applications.
DTSTAMP:20260313T202959Z
END:VEVENT
END:VCALENDAR