BEGIN:VCALENDAR
VERSION:2.0
PRODID:-//Drupal iCal API//EN
X-WR-CALNAME:Events items teaser
X-WR-TIMEZONE:America/Toronto
BEGIN:VTIMEZONE
TZID:America/Toronto
X-LIC-LOCATION:America/Toronto
BEGIN:DAYLIGHT
TZNAME:EDT
TZOFFSETFROM:-0500
TZOFFSETTO:-0400
DTSTART:20240310T070000
END:DAYLIGHT
BEGIN:STANDARD
TZNAME:EST
TZOFFSETFROM:-0400
TZOFFSETTO:-0500
DTSTART:20241103T060000
END:STANDARD
END:VTIMEZONE
BEGIN:VEVENT
UID:69b472e12ce8c
DTSTART;TZID=America/Toronto:20241120T103000
SEQUENCE:0
TRANSP:TRANSPARENT
DTEND;TZID=America/Toronto:20241120T113000
URL:https://uwaterloo.ca/global-engagement/events/making-difference-explori
 ng-international-development
LOCATION:NH - Ira G. Needles Hall\, Room 3318 200 University Avenue West Wa
 terloo ON N2L 3G1 Canada
SUMMARY:Making a Difference: Exploring International Development Opportunit
 ies
CLASS:PUBLIC
DESCRIPTION:Discover the benefits of academic volunteering and learn how t
 o\nmake a difference in furthering your research\, teaching and learning
 \nexperiences while contributing to international development.  \n\nJoin
  us for a presentation from Academics Without Borders\n[https://www.awb-u
 sf.org/] (AWB) and Engineers without Borders\n[https://www.ewb.ca/en/] (E
 WB) for International Education Week and\nlearn about their international
  development work and how you can get\ninvolved. This event will feature e
 xperiences and insights from AWB\nand EWB and will feature volunteers who
  have contributed to\neducational initiatives worldwide. Whether you're a 
 faculty member\nconsidering volunteering or a student interested in the i
 mpact of\nglobal education\, this event promises to offer valuable perspec
 tives\nand inspiration.  All are welcome!  \n\nPresenters:\n\nCorrie Yo
 ung\, Associate Executive Director\, Academics Without Borders\nDr. Kevin 
 Pitts\, AWB volunteer &amp; Professor (retired) of Teaching and\nLearning at S
 eneca College\nDr. Colleen Willard\, AWB volunteer &amp; Professor Emerita of 
 Education at\nWilfrid Laurier University\nLaurel Pierroz-Wong\, President
  of UW Engineers Without Borders\nchapter 
DTSTAMP:20260313T202609Z
END:VEVENT
END:VCALENDAR