BEGIN:VCALENDAR
VERSION:2.0
PRODID:-//Drupal iCal API//EN
X-WR-CALNAME:Events items teaser
X-WR-TIMEZONE:America/Toronto
BEGIN:VTIMEZONE
TZID:America/Toronto
X-LIC-LOCATION:America/Toronto
BEGIN:DAYLIGHT
TZNAME:EDT
TZOFFSETFROM:-0500
TZOFFSETTO:-0400
DTSTART:20180311T070000
END:DAYLIGHT
BEGIN:STANDARD
TZNAME:EST
TZOFFSETFROM:-0400
TZOFFSETTO:-0500
DTSTART:20171105T060000
END:STANDARD
END:VTIMEZONE
BEGIN:VEVENT
UID:69b47ffb9a2cd
DTSTART;TZID=America/Toronto:20180914T103000
SEQUENCE:0
TRANSP:TRANSPARENT
DTEND;TZID=America/Toronto:20180914T120000
URL:https://uwaterloo.ca/global-engagement/events/strategic-plan-consultati
 on-internationalization-issue-paper
LOCATION:V1 - Student Village 1 200 University Avenue West Great Hall Water
 loo ON N2L 3G1 Canada
SUMMARY:Strategic plan consultation - internationalization issue paper
CLASS:PUBLIC
DESCRIPTION:STRATEGIC PLAN CONSULTATION - INTERNATIONALIZATION ISSUE PAPER\
 n\nThis consultation session is open to all members of the University of\n
 Waterloo. The strategic plan consultations will gather input and\nfeedbac
 k on what we need to achieve by 2025 and what success looks\nlike.\n\n_Reg
 ister for this consultation session\n[https://www.ticketfi.com/event/2475/
 beyond-2020-consultation-session-internationalization]_
DTSTAMP:20260313T212203Z
END:VEVENT
END:VCALENDAR