BEGIN:VCALENDAR
VERSION:2.0
PRODID:-//Drupal iCal API//EN
X-WR-CALNAME:Events items teaser
X-WR-TIMEZONE:America/Toronto
BEGIN:VTIMEZONE
TZID:America/Toronto
X-LIC-LOCATION:America/Toronto
BEGIN:DAYLIGHT
TZNAME:EDT
TZOFFSETFROM:-0500
TZOFFSETTO:-0400
DTSTART:20180311T070000
END:DAYLIGHT
BEGIN:STANDARD
TZNAME:EST
TZOFFSETFROM:-0400
TZOFFSETTO:-0500
DTSTART:20181104T060000
END:STANDARD
END:VTIMEZONE
BEGIN:VEVENT
UID:69b45fe255ff3
DTSTART;TZID=America/Toronto:20181114T150000
SEQUENCE:0
TRANSP:TRANSPARENT
DTEND;TZID=America/Toronto:20181114T150000
URL:https://uwaterloo.ca/global-engagement/events/international-education-w
 eek-keynote-speaker-dr-marianne
LOCATION:DC - William G. Davis Computer Research Centre 200 University Aven
 ue West Room 1350 Waterloo ON N2L 3G1 Canada
SUMMARY:International Education Week Keynote Speaker: Dr. Marianne Larsen
CLASS:PUBLIC
DESCRIPTION:In celebration of International Education Week\, Dr. Marianne L
 arsen\nwill be joining the University of Waterloo community to discuss the
 \nopportunities\, challenges and barriers of internationalization and\naca
 demic mobility.
DTSTAMP:20260313T190506Z
END:VEVENT
END:VCALENDAR