BEGIN:VCALENDAR
VERSION:2.0
PRODID:-//Drupal iCal API//EN
X-WR-CALNAME:Events items teaser
X-WR-TIMEZONE:America/Toronto
BEGIN:VTIMEZONE
TZID:America/Toronto
X-LIC-LOCATION:America/Toronto
BEGIN:DAYLIGHT
TZNAME:EDT
TZOFFSETFROM:-0500
TZOFFSETTO:-0400
DTSTART:20180311T070000
END:DAYLIGHT
BEGIN:STANDARD
TZNAME:EST
TZOFFSETFROM:-0400
TZOFFSETTO:-0500
DTSTART:20181104T060000
END:STANDARD
END:VTIMEZONE
BEGIN:VEVENT
UID:69b48006245e8
DTSTART;VALUE=DATE:20181112
SEQUENCE:0
TRANSP:TRANSPARENT
DTEND;VALUE=DATE:20181117
URL:https://uwaterloo.ca/global-engagement/events/libraryiew-buttons
LOCATION:Dana Porter Library Waterloo Canada
SUMMARY:Library/IEW buttons
CLASS:PUBLIC
DESCRIPTION:Stop by DP Library to pick up a button to add to your collectio
 n. This\none is International Education Week themed!
X-MICROSOFT-CDO-ALLDAYEVENT:TRUE
DTSTAMP:20260313T212214Z
END:VEVENT
END:VCALENDAR