BEGIN:VCALENDAR
VERSION:2.0
PRODID:-//Drupal iCal API//EN
X-WR-CALNAME:Events items teaser
X-WR-TIMEZONE:America/Toronto
BEGIN:VTIMEZONE
TZID:America/Toronto
X-LIC-LOCATION:America/Toronto
BEGIN:DAYLIGHT
TZNAME:EDT
TZOFFSETFROM:-0500
TZOFFSETTO:-0400
DTSTART:20180311T070000
END:DAYLIGHT
BEGIN:STANDARD
TZNAME:EST
TZOFFSETFROM:-0400
TZOFFSETTO:-0500
DTSTART:20181104T060000
END:STANDARD
END:VTIMEZONE
BEGIN:VEVENT
UID:69b47ffe94d3f
DTSTART;TZID=America/Toronto:20181114T130000
SEQUENCE:0
TRANSP:TRANSPARENT
DTEND;TZID=America/Toronto:20181114T160000
URL:https://uwaterloo.ca/global-engagement/events/efas-international-langua
 ge-fair
LOCATION:REN - Renison University College 240 Westmount Road North Atrium W
 aterloo ON N2L 3G4 Canada
SUMMARY:EFAS International Language Fair
CLASS:PUBLIC
DESCRIPTION:Join us for some fun language games and activities!  Fun incl
 udes:\nTrivia Balloon Pop\, Match the Map Geography Challenge\, Memorizing
 \nPhrases Challenge\, International Tongue Twisters\, International Common
 \nPhrase + Food!
DTSTAMP:20260313T212206Z
END:VEVENT
END:VCALENDAR