BEGIN:VCALENDAR
VERSION:2.0
PRODID:-//Drupal iCal API//EN
X-WR-CALNAME:Events items teaser
X-WR-TIMEZONE:America/Toronto
BEGIN:VTIMEZONE
TZID:America/Toronto
X-LIC-LOCATION:America/Toronto
BEGIN:DAYLIGHT
TZNAME:EDT
TZOFFSETFROM:-0500
TZOFFSETTO:-0400
DTSTART:20180311T070000
END:DAYLIGHT
BEGIN:STANDARD
TZNAME:EST
TZOFFSETFROM:-0400
TZOFFSETTO:-0500
DTSTART:20181104T060000
END:STANDARD
END:VTIMEZONE
BEGIN:VEVENT
UID:69b480059f871
DTSTART;TZID=America/Toronto:20181113T113000
SEQUENCE:0
TRANSP:TRANSPARENT
DTEND;TZID=America/Toronto:20181113T123000
URL:https://uwaterloo.ca/global-engagement/events/mock-lecture-cultural-ide
 ntities-and-language-study-work-and
LOCATION:DC - William G. Davis Computer Research Centre 200 University Aven
 ue West Fish Bowl Waterloo ON N2L 3G1 Canada
SUMMARY:Mock lecture: Cultural identities and language: study\, work\, and\
 nresearch in a globalized world
CLASS:PUBLIC
DESCRIPTION:Join us for a hands-on workshop in which we explore the conn
 ection\nof cultural identities and language. Awareness and understanding o
 f\nwhat shapes different cultural perspectives is an essential\npreparati
 on for study\, work\, and research abroad and in Canada.\nThere will be 
 time to talk with professors and peers over lunch.\n\nFacilitators: \nPr
 of. Emma Betz (Germanic and Slavic Studies) and Prof. David\nRozotto (S
 panish and Latin American Studies)
DTSTAMP:20260313T212213Z
END:VEVENT
END:VCALENDAR