BEGIN:VCALENDAR
VERSION:2.0
PRODID:-//Drupal iCal API//EN
X-WR-CALNAME:Events items teaser
X-WR-TIMEZONE:America/Toronto
BEGIN:VTIMEZONE
TZID:America/Toronto
X-LIC-LOCATION:America/Toronto
BEGIN:DAYLIGHT
TZNAME:EDT
TZOFFSETFROM:-0500
TZOFFSETTO:-0400
DTSTART:20190310T070000
END:DAYLIGHT
BEGIN:STANDARD
TZNAME:EST
TZOFFSETFROM:-0400
TZOFFSETTO:-0500
DTSTART:20191103T060000
END:STANDARD
END:VTIMEZONE
BEGIN:VEVENT
UID:69b47ffd9b78b
DTSTART;VALUE=DATE:20191118
SEQUENCE:0
TRANSP:TRANSPARENT
DTEND;VALUE=DATE:20191123
URL:https://uwaterloo.ca/global-engagement/events/iew-exchange-art-gallery-
 and-photo-contest
LOCATION:SCH - South Campus Hall 200 University Avenue West Waterloo ON N2L
  3G1 Canada
SUMMARY:IEW - Exchange Art Gallery and Photo Contest
CLASS:PUBLIC
DESCRIPTION:EXCHANGE ART GALLERY AND PHOTO CONTEST\n\nEach year hundreds of
  students visit Waterloo on exchange\, or go\nabroad to study at host scho
 ols around the world. The Student Success\nOffice will be hosting an exhib
 it showcasing photos that were\nsubmitted by past Exchange Photo Contest p
 articipants.\n\nIn addition to the exhibit\, the Fall 2019 contest will be
  hosted by\nthe SSO's _@UWATERLOOLIFE_ account during November 18-22.
X-MICROSOFT-CDO-ALLDAYEVENT:TRUE
DTSTAMP:20260313T212205Z
END:VEVENT
END:VCALENDAR